Package: ProteoMM Version: 1.27.0 Command: /Library/Frameworks/R.framework/Resources/bin/R CMD build --keep-empty-dirs --no-resave-data ProteoMM StartedAt: 2025-10-09 17:22:48 -0400 (Thu, 09 Oct 2025) EndedAt: 2025-10-09 17:23:01 -0400 (Thu, 09 Oct 2025) EllapsedTime: 13.1 seconds RetCode: 0 Status: OK PackageFile: ProteoMM_1.27.0.tar.gz PackageFileSize: 512.9 KiB