Package: ProteoDisco Version: 1.15.1 Command: /Library/Frameworks/R.framework/Resources/bin/R CMD INSTALL ProteoDisco StartedAt: 2025-10-16 15:35:21 -0400 (Thu, 16 Oct 2025) EndedAt: 2025-10-16 15:35:42 -0400 (Thu, 16 Oct 2025) EllapsedTime: 21.6 seconds RetCode: 0 Status: OK