Package: ProteoDisco Version: 1.15.1 Command: /Library/Frameworks/R.framework/Resources/bin/R CMD build --keep-empty-dirs --no-resave-data ProteoDisco StartedAt: 2025-10-17 17:25:17 -0400 (Fri, 17 Oct 2025) EndedAt: 2025-10-17 17:26:36 -0400 (Fri, 17 Oct 2025) EllapsedTime: 78.9 seconds RetCode: 0 Status: OK PackageFile: ProteoDisco_1.15.1.tar.gz PackageFileSize: 506.5 KiB