Package: ProteoDisco Version: 1.15.1 Command: rm -rf ProteoDisco.buildbin-libdir && mkdir ProteoDisco.buildbin-libdir && /Users/biocbuild/BBS/utils/build-universal.sh ProteoDisco_1.15.1.tar.gz /Library/Frameworks/R.framework/Resources/bin/R ProteoDisco.buildbin-libdir StartedAt: 2025-10-17 23:20:33 -0400 (Fri, 17 Oct 2025) EndedAt: 2025-10-17 23:20:56 -0400 (Fri, 17 Oct 2025) EllapsedTime: 22.5 seconds RetCode: 0 Status: OK PackageFile: ProteoDisco_1.15.1.tgz PackageFileSize: 905.9 KiB