Package: ProtGenerics Version: 1.41.0 Command: F:\biocbuild\bbs-3.22-bioc\R\bin\R.exe CMD INSTALL ProtGenerics StartedAt: 2025-08-14 15:17:51 -0400 (Thu, 14 Aug 2025) EndedAt: 2025-08-14 15:19:44 -0400 (Thu, 14 Aug 2025) EllapsedTime: 112.2 seconds RetCode: 0 Status: OK