Package: ProtGenerics Version: 1.41.0 Command: rm -rf ProtGenerics.buildbin-libdir && mkdir ProtGenerics.buildbin-libdir && F:\biocbuild\bbs-3.22-bioc\R\bin\R.exe CMD INSTALL --build --library=ProtGenerics.buildbin-libdir ProtGenerics_1.41.0.tar.gz StartedAt: 2025-08-15 11:00:36 -0400 (Fri, 15 Aug 2025) EndedAt: 2025-08-15 11:03:54 -0400 (Fri, 15 Aug 2025) EllapsedTime: 197.7 seconds RetCode: 0 Status: OK PackageFile: ProtGenerics_1.41.0.zip PackageFileSize: 249.1 KiB