Package: ProtGenerics Version: 1.43.0 Command: /home/biocbuild/bbs-3.23-bioc/R/bin/R CMD INSTALL ProtGenerics StartedAt: 2025-10-31 15:10:42 -0400 (Fri, 31 Oct 2025) EndedAt: 2025-10-31 15:10:50 -0400 (Fri, 31 Oct 2025) EllapsedTime: 8.2 seconds RetCode: 0 Status: OK