Package: ProtGenerics Version: 1.43.0 Command: /home/biocbuild/bbs-3.23-bioc/R/bin/R CMD check --install=check:ProtGenerics.install-out.txt --library=/home/biocbuild/bbs-3.23-bioc/R/site-library --timings ProtGenerics_1.43.0.tar.gz StartedAt: 2025-11-01 02:30:29 -0400 (Sat, 01 Nov 2025) EndedAt: 2025-11-01 02:30:47 -0400 (Sat, 01 Nov 2025) EllapsedTime: 18.0 seconds RetCode: 0 Status: OK CheckDir: ProtGenerics.Rcheck Warnings: 0