Package: ProtGenerics Version: 1.43.0 Command: /home/biocbuild/bbs-3.23-bioc/R/bin/R CMD build --keep-empty-dirs --no-resave-data ProtGenerics StartedAt: 2025-10-31 19:33:34 -0400 (Fri, 31 Oct 2025) EndedAt: 2025-10-31 19:33:35 -0400 (Fri, 31 Oct 2025) EllapsedTime: 1.0 seconds RetCode: 0 Status: OK PackageFile: ProtGenerics_1.43.0.tar.gz PackageFileSize: 10.87 KiB