Package: Prostar Version: 1.41.0 Command: /Library/Frameworks/R.framework/Resources/bin/R CMD INSTALL Prostar StartedAt: 2025-10-06 15:38:26 -0400 (Mon, 06 Oct 2025) EndedAt: 2025-10-06 15:39:21 -0400 (Mon, 06 Oct 2025) EllapsedTime: 55.4 seconds RetCode: 0 Status: OK