Package: Prostar Version: 1.41.0 Command: /Library/Frameworks/R.framework/Resources/bin/R CMD build --keep-empty-dirs --no-resave-data Prostar StartedAt: 2025-10-06 18:34:37 -0400 (Mon, 06 Oct 2025) EndedAt: 2025-10-06 18:35:40 -0400 (Mon, 06 Oct 2025) EllapsedTime: 63.0 seconds RetCode: 0 Status: OK PackageFile: Prostar_1.41.0.tar.gz PackageFileSize: 4.201 MiB