Package: Prostar Version: 1.41.0 Command: /Library/Frameworks/R.framework/Resources/bin/R CMD INSTALL Prostar StartedAt: 2025-10-21 15:23:11 -0400 (Tue, 21 Oct 2025) EndedAt: 2025-10-21 15:23:28 -0400 (Tue, 21 Oct 2025) EllapsedTime: 16.3 seconds RetCode: 0 Status: OK