Package: Prostar Version: 1.41.0 Command: /Library/Frameworks/R.framework/Resources/bin/R CMD build --keep-empty-dirs --no-resave-data Prostar StartedAt: 2025-10-21 17:25:59 -0400 (Tue, 21 Oct 2025) EndedAt: 2025-10-21 17:26:18 -0400 (Tue, 21 Oct 2025) EllapsedTime: 19.2 seconds RetCode: 0 Status: OK PackageFile: Prostar_1.41.0.tar.gz PackageFileSize: 4.2 MiB