Package: Prostar Version: 1.41.0 Maintainer: Samuel Wieczorek MaintainerEmail: samuel.wieczorek at cea.fr git_url: https://git.bioconductor.org/packages/Prostar git_branch: devel git_last_commit: fdc7c95 git_last_commit_date: 2025-04-15 10:55:43 -0400 (Tue, 15 Apr 2025)