Package: PrInCE Version: 1.25.0 Command: /home/biocbuild/R/R/bin/R CMD INSTALL PrInCE StartedAt: 2025-10-23 21:09:54 -0000 (Thu, 23 Oct 2025) EndedAt: 2025-10-23 21:11:07 -0000 (Thu, 23 Oct 2025) EllapsedTime: 73.0 seconds RetCode: 0 Status: OK