Package: PrInCE Version: 1.25.0 Command: /home/biocbuild/R/R/bin/R CMD build --keep-empty-dirs --no-resave-data PrInCE StartedAt: 2025-10-21 02:09:00 -0000 (Tue, 21 Oct 2025) EndedAt: 2025-10-21 02:12:45 -0000 (Tue, 21 Oct 2025) EllapsedTime: 225.1 seconds RetCode: 0 Status: OK PackageFile: PrInCE_1.25.0.tar.gz PackageFileSize: 1.879 MiB