Package: PrInCE Version: 1.25.0 Command: /home/biocbuild/bbs-3.22-bioc/R/bin/R CMD check --install=check:PrInCE.install-out.txt --library=/home/biocbuild/bbs-3.22-bioc/R/site-library --timings PrInCE_1.25.0.tar.gz StartedAt: 2025-10-17 04:28:12 -0400 (Fri, 17 Oct 2025) EndedAt: 2025-10-17 04:34:53 -0400 (Fri, 17 Oct 2025) EllapsedTime: 401.4 seconds RetCode: 0 Status: WARNINGS CheckDir: PrInCE.Rcheck Warnings: 1