Package: PrInCE Version: 1.27.0 Command: /home/biocbuild/bbs-3.23-bioc/R/bin/R CMD INSTALL PrInCE StartedAt: 2025-11-06 15:36:56 -0500 (Thu, 06 Nov 2025) EndedAt: 2025-11-06 15:37:53 -0500 (Thu, 06 Nov 2025) EllapsedTime: 56.9 seconds RetCode: 0 Status: OK