Package: PrInCE Version: 1.27.0 Command: /home/biocbuild/bbs-3.23-bioc/R/bin/R CMD build --keep-empty-dirs --no-resave-data PrInCE StartedAt: 2025-11-06 19:15:43 -0500 (Thu, 06 Nov 2025) EndedAt: 2025-11-06 19:18:15 -0500 (Thu, 06 Nov 2025) EllapsedTime: 152.2 seconds RetCode: 0 Status: OK PackageFile: PrInCE_1.27.0.tar.gz PackageFileSize: 1.861 MiB