Package: PrInCE Version: 1.25.0 Command: /Library/Frameworks/R.framework/Resources/bin/R CMD INSTALL PrInCE StartedAt: 2025-09-30 15:39:08 -0400 (Tue, 30 Sep 2025) EndedAt: 2025-09-30 15:40:25 -0400 (Tue, 30 Sep 2025) EllapsedTime: 77.4 seconds RetCode: 0 Status: OK