Package: PrInCE Version: 1.25.0 Command: /Library/Frameworks/R.framework/Resources/bin/R CMD build --keep-empty-dirs --no-resave-data PrInCE StartedAt: 2025-09-30 18:19:35 -0400 (Tue, 30 Sep 2025) EndedAt: 2025-09-30 18:22:34 -0400 (Tue, 30 Sep 2025) EllapsedTime: 178.2 seconds RetCode: 0 Status: OK PackageFile: PrInCE_1.25.0.tar.gz PackageFileSize: 1.82 MiB