Package: PrInCE Version: 1.25.0 Command: rm -rf PrInCE.buildbin-libdir && mkdir PrInCE.buildbin-libdir && /Users/biocbuild/BBS/utils/build-universal.sh PrInCE_1.25.0.tar.gz /Library/Frameworks/R.framework/Resources/bin/R PrInCE.buildbin-libdir StartedAt: 2025-10-01 01:58:56 -0400 (Wed, 01 Oct 2025) EndedAt: 2025-10-01 01:59:57 -0400 (Wed, 01 Oct 2025) EllapsedTime: 61.2 seconds RetCode: 0 Status: OK PackageFile: PrInCE_1.25.0.tgz PackageFileSize: 1.687 MiB