Package: Polytect Version: 1.3.0 Command: /home/biocbuild/bbs-3.23-bioc/R/bin/R CMD INSTALL Polytect StartedAt: 2025-10-31 15:18:32 -0400 (Fri, 31 Oct 2025) EndedAt: 2025-10-31 15:18:48 -0400 (Fri, 31 Oct 2025) EllapsedTime: 15.8 seconds RetCode: 0 Status: OK