Package: Polytect Version: 1.1.0 Command: /Library/Frameworks/R.framework/Resources/bin/R CMD INSTALL Polytect StartedAt: 2025-10-08 15:16:31 -0400 (Wed, 08 Oct 2025) EndedAt: 2025-10-08 15:17:03 -0400 (Wed, 08 Oct 2025) EllapsedTime: 31.8 seconds RetCode: 0 Status: OK