Package: Polytect Version: 1.1.0 Command: /Library/Frameworks/R.framework/Resources/bin/R CMD build --keep-empty-dirs --no-resave-data Polytect StartedAt: 2025-10-08 18:43:24 -0400 (Wed, 08 Oct 2025) EndedAt: 2025-10-08 18:45:12 -0400 (Wed, 08 Oct 2025) EllapsedTime: 107.8 seconds RetCode: 0 Status: OK PackageFile: Polytect_1.1.0.tar.gz PackageFileSize: 2.126 MiB