Package: Polytect Version: 1.1.0 Command: rm -rf Polytect.buildbin-libdir && mkdir Polytect.buildbin-libdir && /Users/biocbuild/BBS/utils/build-universal.sh Polytect_1.1.0.tar.gz /Library/Frameworks/R.framework/Resources/bin/R Polytect.buildbin-libdir StartedAt: 2025-10-09 02:47:56 -0400 (Thu, 09 Oct 2025) EndedAt: 2025-10-09 02:48:12 -0400 (Thu, 09 Oct 2025) EllapsedTime: 16.2 seconds RetCode: 0 Status: OK PackageFile: Polytect_1.1.0.tgz PackageFileSize: 2.205 MiB