Package: PolySTest Version: 1.3.1 Command: /home/biocbuild/R/R/bin/R CMD INSTALL PolySTest StartedAt: 2025-10-06 20:30:58 -0000 (Mon, 06 Oct 2025) EndedAt: 2025-10-06 20:31:35 -0000 (Mon, 06 Oct 2025) EllapsedTime: 36.6 seconds RetCode: 0 Status: OK