Package: PolySTest Version: 1.3.1 Command: /home/biocbuild/R/R/bin/R CMD build --keep-empty-dirs --no-resave-data PolySTest StartedAt: 2025-10-07 01:57:39 -0000 (Tue, 07 Oct 2025) EndedAt: 2025-10-07 02:00:06 -0000 (Tue, 07 Oct 2025) EllapsedTime: 147.1 seconds RetCode: 0 Status: OK PackageFile: PolySTest_1.3.1.tar.gz PackageFileSize: 2.466 MiB