Package: PolySTest Version: 1.3.1 Command: chmod a+r PolySTest -R && F:\biocbuild\bbs-3.22-bioc\R\bin\R.exe CMD build --keep-empty-dirs --no-resave-data PolySTest StartedAt: 2025-08-14 22:24:05 -0400 (Thu, 14 Aug 2025) EndedAt: 2025-08-14 22:26:40 -0400 (Thu, 14 Aug 2025) EllapsedTime: 154.9 seconds RetCode: 0 Status: OK PackageFile: PolySTest_1.3.1.tar.gz PackageFileSize: 1.883 MiB