Package: PolySTest Version: 1.3.1 Command: rm -rf PolySTest.buildbin-libdir && mkdir PolySTest.buildbin-libdir && F:\biocbuild\bbs-3.22-bioc\R\bin\R.exe CMD INSTALL --build --library=PolySTest.buildbin-libdir PolySTest_1.3.1.tar.gz StartedAt: 2025-08-15 10:58:39 -0400 (Fri, 15 Aug 2025) EndedAt: 2025-08-15 10:59:29 -0400 (Fri, 15 Aug 2025) EllapsedTime: 50.1 seconds RetCode: 0 Status: OK PackageFile: PolySTest_1.3.1.zip PackageFileSize: 1.991 MiB