Package: PolySTest Version: 1.5.0 Command: /home/biocbuild/bbs-3.23-bioc/R/bin/R CMD INSTALL PolySTest StartedAt: 2025-11-20 15:18:04 -0500 (Thu, 20 Nov 2025) EndedAt: 2025-11-20 15:18:31 -0500 (Thu, 20 Nov 2025) EllapsedTime: 26.6 seconds RetCode: 0 Status: OK