Package: PolySTest Version: 1.5.0 Command: /home/biocbuild/bbs-3.23-bioc/R/bin/R CMD build --keep-empty-dirs --no-resave-data PolySTest StartedAt: 2025-11-20 19:19:51 -0500 (Thu, 20 Nov 2025) EndedAt: 2025-11-20 19:21:39 -0500 (Thu, 20 Nov 2025) EllapsedTime: 107.1 seconds RetCode: 0 Status: OK PackageFile: PolySTest_1.5.0.tar.gz PackageFileSize: 2.101 MiB