Package: PoDCall Version: 1.19.0 Command: /home/biocbuild/bbs-3.23-bioc/R/bin/R CMD INSTALL PoDCall StartedAt: 2025-11-20 15:07:11 -0500 (Thu, 20 Nov 2025) EndedAt: 2025-11-20 15:07:22 -0500 (Thu, 20 Nov 2025) EllapsedTime: 11.0 seconds RetCode: 0 Status: OK