Package: PoDCall Version: 1.19.0 Command: /home/biocbuild/bbs-3.23-bioc/R/bin/R CMD build --keep-empty-dirs --no-resave-data PoDCall StartedAt: 2025-11-20 19:19:27 -0500 (Thu, 20 Nov 2025) EndedAt: 2025-11-20 19:19:47 -0500 (Thu, 20 Nov 2025) EllapsedTime: 20.0 seconds RetCode: 0 Status: OK PackageFile: PoDCall_1.19.0.tar.gz PackageFileSize: 3.006 MiB