Package: PoDCall Version: 1.18.0 Command: /Library/Frameworks/R.framework/Resources/bin/R CMD INSTALL PoDCall StartedAt: 2025-10-29 21:26:18 -0400 (Wed, 29 Oct 2025) EndedAt: 2025-10-29 21:26:23 -0400 (Wed, 29 Oct 2025) EllapsedTime: 4.7 seconds RetCode: 0 Status: OK