Package: PoDCall Version: 1.18.0 Command: rm -rf PoDCall.buildbin-libdir && mkdir PoDCall.buildbin-libdir && /Users/biocbuild/BBS/utils/build-universal.sh PoDCall_1.18.0.tar.gz /Library/Frameworks/R.framework/Resources/bin/R PoDCall.buildbin-libdir StartedAt: 2025-10-30 05:35:38 -0400 (Thu, 30 Oct 2025) EndedAt: 2025-10-30 05:35:41 -0400 (Thu, 30 Oct 2025) EllapsedTime: 3.1 seconds RetCode: 0 Status: OK PackageFile: PoDCall_1.18.0.tgz PackageFileSize: 2.203 MiB