Package: Pirat Version: 1.5.5 Command: /home/biocbuild/bbs-3.23-bioc/R/bin/R CMD INSTALL Pirat StartedAt: 2025-11-20 15:20:30 -0500 (Thu, 20 Nov 2025) EndedAt: 2025-11-20 15:20:49 -0500 (Thu, 20 Nov 2025) EllapsedTime: 18.9 seconds RetCode: 0 Status: OK