Package: Pirat Version: 1.5.5 Command: /home/biocbuild/bbs-3.23-bioc/R/bin/R CMD build --keep-empty-dirs --no-resave-data Pirat StartedAt: 2025-11-20 19:17:42 -0500 (Thu, 20 Nov 2025) EndedAt: 2025-11-20 19:22:10 -0500 (Thu, 20 Nov 2025) EllapsedTime: 267.3 seconds RetCode: 0 Status: OK PackageFile: Pirat_1.5.5.tar.gz PackageFileSize: 2.635 MiB