Package: Pirat Version: 1.5.5 Command: /Library/Frameworks/R.framework/Resources/bin/R CMD INSTALL Pirat StartedAt: 2025-11-21 15:26:39 -0500 (Fri, 21 Nov 2025) EndedAt: 2025-11-21 15:27:07 -0500 (Fri, 21 Nov 2025) EllapsedTime: 28.5 seconds RetCode: 0 Status: OK