Package: Pirat Version: 1.5.5 Command: /Library/Frameworks/R.framework/Resources/bin/R CMD build --keep-empty-dirs --no-resave-data Pirat StartedAt: 2025-11-21 18:12:11 -0500 (Fri, 21 Nov 2025) EndedAt: 2025-11-21 18:13:02 -0500 (Fri, 21 Nov 2025) EllapsedTime: 51.6 seconds RetCode: 1 Status: ERROR PackageFile: None PackageFileSize: NA