Package: Pigengene Version: 1.37.0 Command: /home/biocbuild/bbs-3.23-bioc/R/bin/R CMD INSTALL Pigengene StartedAt: 2025-11-05 15:55:10 -0500 (Wed, 05 Nov 2025) EndedAt: 2025-11-05 15:55:39 -0500 (Wed, 05 Nov 2025) EllapsedTime: 29.1 seconds RetCode: 0 Status: OK