Package: Pigengene Version: 1.35.0 Command: /Library/Frameworks/R.framework/Resources/bin/R CMD build --keep-empty-dirs --no-resave-data Pigengene StartedAt: 2025-10-12 18:38:36 -0400 (Sun, 12 Oct 2025) EndedAt: 2025-10-12 18:42:26 -0400 (Sun, 12 Oct 2025) EllapsedTime: 230.1 seconds RetCode: 0 Status: OK PackageFile: Pigengene_1.35.0.tar.gz PackageFileSize: 2.696 MiB