Package: PhyloProfile Version: 2.3.2 Command: /home/biocbuild/bbs-3.23-bioc/R/bin/R CMD INSTALL PhyloProfile StartedAt: 2025-11-20 15:14:53 -0500 (Thu, 20 Nov 2025) EndedAt: 2025-11-20 15:15:16 -0500 (Thu, 20 Nov 2025) EllapsedTime: 23.1 seconds RetCode: 0 Status: OK