Package: PhyloProfile Version: 2.3.2 Command: /home/biocbuild/bbs-3.23-bioc/R/bin/R CMD build --keep-empty-dirs --no-resave-data PhyloProfile StartedAt: 2025-11-20 19:17:00 -0500 (Thu, 20 Nov 2025) EndedAt: 2025-11-20 19:17:39 -0500 (Thu, 20 Nov 2025) EllapsedTime: 39.0 seconds RetCode: 0 Status: OK PackageFile: PhyloProfile_2.3.2.tar.gz PackageFileSize: 1.429 MiB