Package: PhyloProfile Version: 2.1.13 Command: /Library/Frameworks/R.framework/Resources/bin/R CMD INSTALL PhyloProfile StartedAt: 2025-10-23 15:17:43 -0400 (Thu, 23 Oct 2025) EndedAt: 2025-10-23 15:18:17 -0400 (Thu, 23 Oct 2025) EllapsedTime: 33.8 seconds RetCode: 0 Status: OK