Package: PhyloProfile Version: 2.1.13 Command: /Library/Frameworks/R.framework/Resources/bin/R CMD build --keep-empty-dirs --no-resave-data PhyloProfile StartedAt: 2025-10-23 18:10:05 -0400 (Thu, 23 Oct 2025) EndedAt: 2025-10-23 18:10:53 -0400 (Thu, 23 Oct 2025) EllapsedTime: 48.0 seconds RetCode: 0 Status: OK PackageFile: PhyloProfile_2.1.13.tar.gz PackageFileSize: 1.429 MiB