Package: PhyloProfile Version: 2.1.13 Command: rm -rf PhyloProfile.buildbin-libdir && mkdir PhyloProfile.buildbin-libdir && /Users/biocbuild/BBS/utils/build-universal.sh PhyloProfile_2.1.13.tar.gz /Library/Frameworks/R.framework/Resources/bin/R PhyloProfile.buildbin-libdir StartedAt: 2025-10-24 01:49:37 -0400 (Fri, 24 Oct 2025) EndedAt: 2025-10-24 01:50:12 -0400 (Fri, 24 Oct 2025) EllapsedTime: 35.5 seconds RetCode: 0 Status: OK PackageFile: PhyloProfile_2.1.13.tgz PackageFileSize: 1.51 MiB