Package: PhyloProfile Version: 2.1.10 Command: /Library/Frameworks/R.framework/Resources/bin/R CMD INSTALL PhyloProfile StartedAt: 2025-10-03 15:08:16 -0400 (Fri, 03 Oct 2025) EndedAt: 2025-10-03 15:08:24 -0400 (Fri, 03 Oct 2025) EllapsedTime: 8.3 seconds RetCode: 0 Status: OK