Package: PhyloProfile Version: 2.1.10 Command: /Library/Frameworks/R.framework/Resources/bin/R CMD build --keep-empty-dirs --no-resave-data PhyloProfile StartedAt: 2025-10-03 17:20:13 -0400 (Fri, 03 Oct 2025) EndedAt: 2025-10-03 17:20:28 -0400 (Fri, 03 Oct 2025) EllapsedTime: 15.2 seconds RetCode: 0 Status: OK PackageFile: PhyloProfile_2.1.10.tar.gz PackageFileSize: 1.428 MiB