Package: PhyloProfile Version: 2.1.10 Command: rm -rf PhyloProfile.buildbin-libdir && mkdir PhyloProfile.buildbin-libdir && /Users/biocbuild/BBS/utils/build-universal.sh PhyloProfile_2.1.10.tar.gz /Library/Frameworks/R.framework/Resources/bin/R PhyloProfile.buildbin-libdir StartedAt: 2025-10-03 22:50:11 -0400 (Fri, 03 Oct 2025) EndedAt: 2025-10-03 22:50:21 -0400 (Fri, 03 Oct 2025) EllapsedTime: 10.2 seconds RetCode: 0 Status: OK PackageFile: PhyloProfile_2.1.10.tgz PackageFileSize: 1.517 MiB